BEGIN:VCALENDAR
VERSION:2.0
PRODID:-//jEvents 2.0 for Joomla//EN
CALSCALE:GREGORIAN
METHOD:PUBLISH
BEGIN:VTIMEZONE
TZID:America/New_York
BEGIN:STANDARD
DTSTART:20171112T183000
RDATE:20180311T030000
TZOFFSETFROM:-0400
TZOFFSETTO:-0500
TZNAME:America/New_York EST
END:STANDARD
BEGIN:STANDARD
DTSTART:20181104T010000
RDATE:20190310T030000
TZOFFSETFROM:-0400
TZOFFSETTO:-0500
TZNAME:America/New_York EST
END:STANDARD
BEGIN:STANDARD
DTSTART:20191103T010000
RDATE:20200308T030000
TZOFFSETFROM:-0400
TZOFFSETTO:-0500
TZNAME:America/New_York EST
END:STANDARD
BEGIN:STANDARD
DTSTART:20201101T010000
RDATE:20210314T030000
TZOFFSETFROM:-0400
TZOFFSETTO:-0500
TZNAME:America/New_York EST
END:STANDARD
BEGIN:STANDARD
DTSTART:20211107T010000
RDATE:20220313T030000
TZOFFSETFROM:-0400
TZOFFSETTO:-0500
TZNAME:America/New_York EST
END:STANDARD
BEGIN:STANDARD
DTSTART:20221106T010000
RDATE:20230312T030000
TZOFFSETFROM:-0400
TZOFFSETTO:-0500
TZNAME:America/New_York EST
END:STANDARD
BEGIN:STANDARD
DTSTART:20231105T010000
RDATE:20240310T030000
TZOFFSETFROM:-0400
TZOFFSETTO:-0500
TZNAME:America/New_York EST
END:STANDARD
BEGIN:STANDARD
DTSTART:20241103T010000
RDATE:20250309T030000
TZOFFSETFROM:-0400
TZOFFSETTO:-0500
TZNAME:America/New_York EST
END:STANDARD
BEGIN:STANDARD
DTSTART:20251102T010000
RDATE:20260308T030000
TZOFFSETFROM:-0400
TZOFFSETTO:-0500
TZNAME:America/New_York EST
END:STANDARD
BEGIN:DAYLIGHT
DTSTART:20180311T030000
RDATE:20181104T010000
TZOFFSETFROM:-0500
TZOFFSETTO:-0400
TZNAME:America/New_York EDT
END:DAYLIGHT
BEGIN:DAYLIGHT
DTSTART:20190310T030000
RDATE:20191103T010000
TZOFFSETFROM:-0500
TZOFFSETTO:-0400
TZNAME:America/New_York EDT
END:DAYLIGHT
BEGIN:DAYLIGHT
DTSTART:20200308T030000
RDATE:20201101T010000
TZOFFSETFROM:-0500
TZOFFSETTO:-0400
TZNAME:America/New_York EDT
END:DAYLIGHT
BEGIN:DAYLIGHT
DTSTART:20210314T030000
RDATE:20211107T010000
TZOFFSETFROM:-0500
TZOFFSETTO:-0400
TZNAME:America/New_York EDT
END:DAYLIGHT
BEGIN:DAYLIGHT
DTSTART:20220313T030000
RDATE:20221106T010000
TZOFFSETFROM:-0500
TZOFFSETTO:-0400
TZNAME:America/New_York EDT
END:DAYLIGHT
BEGIN:DAYLIGHT
DTSTART:20230312T030000
RDATE:20231105T010000
TZOFFSETFROM:-0500
TZOFFSETTO:-0400
TZNAME:America/New_York EDT
END:DAYLIGHT
BEGIN:DAYLIGHT
DTSTART:20240310T030000
RDATE:20241103T010000
TZOFFSETFROM:-0500
TZOFFSETTO:-0400
TZNAME:America/New_York EDT
END:DAYLIGHT
BEGIN:DAYLIGHT
DTSTART:20250309T030000
RDATE:20251102T010000
TZOFFSETFROM:-0500
TZOFFSETTO:-0400
TZNAME:America/New_York EDT
END:DAYLIGHT
END:VTIMEZONE
BEGIN:VEVENT
UID:4puo1v697mebv7mugej3spc241@google.com
CATEGORIES:Programs
CREATED:20180317T121303
SUMMARY:History of the Heart of the Catskill Humane Society
LOCATION:Cannon Free Library\, 40 Elm St\, Delhi\, NY 13753\, USA
DESCRIPTION;ENCODING=QUOTED-PRINTABLE:<span id="docs-internal-guid-366c7174-34b7-5b8b-bfc6-9fdcec62f2cf"><p dir="
 ltr" style="line-height:1.2;margin-top:0pt;margin-bottom:0pt;"><span style=
 "font-size: 12pt; font-family: Cambria; color: rgb(0, 0, 0); background-col
 or: transparent; font-weight: 700; font-variant-numeric: normal; font-varia
 nt-east-asian: normal; vertical-align: baseline; white-space: pre-wrap;">Tu
 esday, November 13, 6:30 at the </span><span style="font-size: 12pt; font-f
 amily: Cambria; color: rgb(0, 0, 0); background-color: transparent; font-we
 ight: 700; font-variant-numeric: normal; font-variant-east-asian: normal; v
 ertical-align: baseline; white-space: pre-wrap;">Cannon Free Library </span
 ></p><br><p dir="ltr" style="line-height:1.2;margin-top:0pt;margin-bottom:0
 pt;"><span style="font-size: 12pt; font-family: Cambria; color: rgb(0, 0, 0
 ); background-color: transparent; font-variant-numeric: normal; font-varian
 t-east-asian: normal; vertical-align: baseline; white-space: pre-wrap;">The
  Heart of the Catskills Humane Society is celebrating 50 years of caring fo
 r dogs and cats this year. Director Deb Crute will share information about 
 the history and operation of the shelter. There will also be information av
 ailable on how you can help.</span></p><br><span style="font-size: 12pt; fo
 nt-family: Cambria; color: rgb(0, 0, 0); background-color: transparent; fon
 t-variant-numeric: normal; font-variant-east-asian: normal; vertical-align:
  baseline; white-space: pre-wrap;"><br></span></span>
DTSTAMP:20260421T060101Z
DTSTART;TZID=America/New_York:20181113T183000
DTEND;TZID=America/New_York:20181113T193000
SEQUENCE:0
TRANSP:OPAQUE
END:VEVENT
END:VCALENDAR