BEGIN:VCALENDAR
VERSION:2.0
PRODID:-//jEvents 2.0 for Joomla//EN
CALSCALE:GREGORIAN
METHOD:PUBLISH
BEGIN:VTIMEZONE
TZID:America/New_York
BEGIN:STANDARD
DTSTART:20171214T100000
RDATE:20180311T030000
TZOFFSETFROM:-0400
TZOFFSETTO:-0500
TZNAME:America/New_York EST
END:STANDARD
BEGIN:STANDARD
DTSTART:20181104T010000
RDATE:20190310T030000
TZOFFSETFROM:-0400
TZOFFSETTO:-0500
TZNAME:America/New_York EST
END:STANDARD
BEGIN:STANDARD
DTSTART:20191103T010000
RDATE:20200308T030000
TZOFFSETFROM:-0400
TZOFFSETTO:-0500
TZNAME:America/New_York EST
END:STANDARD
BEGIN:STANDARD
DTSTART:20201101T010000
RDATE:20210314T030000
TZOFFSETFROM:-0400
TZOFFSETTO:-0500
TZNAME:America/New_York EST
END:STANDARD
BEGIN:STANDARD
DTSTART:20211107T010000
RDATE:20220313T030000
TZOFFSETFROM:-0400
TZOFFSETTO:-0500
TZNAME:America/New_York EST
END:STANDARD
BEGIN:STANDARD
DTSTART:20221106T010000
RDATE:20230312T030000
TZOFFSETFROM:-0400
TZOFFSETTO:-0500
TZNAME:America/New_York EST
END:STANDARD
BEGIN:STANDARD
DTSTART:20231105T010000
RDATE:20240310T030000
TZOFFSETFROM:-0400
TZOFFSETTO:-0500
TZNAME:America/New_York EST
END:STANDARD
BEGIN:STANDARD
DTSTART:20241103T010000
RDATE:20250309T030000
TZOFFSETFROM:-0400
TZOFFSETTO:-0500
TZNAME:America/New_York EST
END:STANDARD
BEGIN:STANDARD
DTSTART:20251102T010000
RDATE:20260308T030000
TZOFFSETFROM:-0400
TZOFFSETTO:-0500
TZNAME:America/New_York EST
END:STANDARD
BEGIN:DAYLIGHT
DTSTART:20180311T030000
RDATE:20181104T010000
TZOFFSETFROM:-0500
TZOFFSETTO:-0400
TZNAME:America/New_York EDT
END:DAYLIGHT
BEGIN:DAYLIGHT
DTSTART:20190310T030000
RDATE:20191103T010000
TZOFFSETFROM:-0500
TZOFFSETTO:-0400
TZNAME:America/New_York EDT
END:DAYLIGHT
BEGIN:DAYLIGHT
DTSTART:20200308T030000
RDATE:20201101T010000
TZOFFSETFROM:-0500
TZOFFSETTO:-0400
TZNAME:America/New_York EDT
END:DAYLIGHT
BEGIN:DAYLIGHT
DTSTART:20210314T030000
RDATE:20211107T010000
TZOFFSETFROM:-0500
TZOFFSETTO:-0400
TZNAME:America/New_York EDT
END:DAYLIGHT
BEGIN:DAYLIGHT
DTSTART:20220313T030000
RDATE:20221106T010000
TZOFFSETFROM:-0500
TZOFFSETTO:-0400
TZNAME:America/New_York EDT
END:DAYLIGHT
BEGIN:DAYLIGHT
DTSTART:20230312T030000
RDATE:20231105T010000
TZOFFSETFROM:-0500
TZOFFSETTO:-0400
TZNAME:America/New_York EDT
END:DAYLIGHT
BEGIN:DAYLIGHT
DTSTART:20240310T030000
RDATE:20241103T010000
TZOFFSETFROM:-0500
TZOFFSETTO:-0400
TZNAME:America/New_York EDT
END:DAYLIGHT
BEGIN:DAYLIGHT
DTSTART:20250309T030000
RDATE:20251102T010000
TZOFFSETFROM:-0500
TZOFFSETTO:-0400
TZNAME:America/New_York EDT
END:DAYLIGHT
END:VTIMEZONE
BEGIN:VEVENT
UID:7gjmh2pftm1fk3j20kf5bbqr78@google.com
CATEGORIES:Programs
CREATED:20180317T121303
SUMMARY:Christmas Card Exhibit and Party
LOCATION:The Cannon House - home of the Delhi Historical Society\, 47 Main St\, Delh
 i\, NY 13753\, USA
DESCRIPTION;ENCODING=QUOTED-PRINTABLE:<span id="docs-internal-guid-6edfe111-34bb-13fe-cd15-3083a086d113"><p dir="
 ltr" style="line-height:1.2;margin-top:0pt;margin-bottom:0pt;"><span style=
 "font-size: 12pt; font-family: Cambria; color: rgb(0, 0, 0); background-col
 or: transparent; font-weight: 700; font-variant-numeric: normal; font-varia
 nt-east-asian: normal; vertical-align: baseline; white-space: pre-wrap;">Sa
 turday, December 15, 10-1 at the </span><span style="font-size: 12pt; font-
 family: Cambria; color: rgb(0, 0, 0); background-color: transparent; font-w
 eight: 700; font-variant-numeric: normal; font-variant-east-asian: normal; 
 vertical-align: baseline; white-space: pre-wrap;">Cannon House</span></p><b
 r><p dir="ltr" style="line-height:1.2;margin-top:0pt;margin-bottom:0pt;"><s
 pan style="font-size: 12pt; font-family: Cambria; color: rgb(0, 0, 0); back
 ground-color: transparent; font-variant-numeric: normal; font-variant-east-
 asian: normal; vertical-align: baseline; white-space: pre-wrap;">Choose an 
 antique Christmas card to be mailed by DHS and create a calling card for ou
 r Christmas tree. &nbsp;Look at old greeting cards, calling cards and autog
 raph albums. John Bramley will delight us with his old fashioned Edison mus
 ic player. There will be a few treats to enjoy and, most of all; we’ll enjo
 y your company.</span></p><br><span style="font-size: 12pt; font-family: Ca
 mbria; color: rgb(0, 0, 0); background-color: transparent; font-variant-num
 eric: normal; font-variant-east-asian: normal; vertical-align: baseline; wh
 ite-space: pre-wrap;"><br></span></span>
DTSTAMP:20260421T061559Z
DTSTART;TZID=America/New_York:20181215T100000
DTEND;TZID=America/New_York:20181215T130000
SEQUENCE:0
TRANSP:OPAQUE
END:VEVENT
END:VCALENDAR