BEGIN:VCALENDAR
VERSION:2.0
PRODID:-//jEvents 2.0 for Joomla//EN
CALSCALE:GREGORIAN
METHOD:PUBLISH
BEGIN:VTIMEZONE
TZID:America/New_York
BEGIN:STANDARD
DTSTART:20171105T010000
RDATE:20180311T030000
TZOFFSETFROM:-0400
TZOFFSETTO:-0500
TZNAME:America/New_York EST
END:STANDARD
BEGIN:STANDARD
DTSTART:20181104T010000
RDATE:20190310T030000
TZOFFSETFROM:-0400
TZOFFSETTO:-0500
TZNAME:America/New_York EST
END:STANDARD
BEGIN:STANDARD
DTSTART:20191103T010000
RDATE:20200308T030000
TZOFFSETFROM:-0400
TZOFFSETTO:-0500
TZNAME:America/New_York EST
END:STANDARD
BEGIN:STANDARD
DTSTART:20201101T010000
RDATE:20210314T030000
TZOFFSETFROM:-0400
TZOFFSETTO:-0500
TZNAME:America/New_York EST
END:STANDARD
BEGIN:STANDARD
DTSTART:20211107T010000
RDATE:20220313T030000
TZOFFSETFROM:-0400
TZOFFSETTO:-0500
TZNAME:America/New_York EST
END:STANDARD
BEGIN:STANDARD
DTSTART:20221106T010000
RDATE:20230312T030000
TZOFFSETFROM:-0400
TZOFFSETTO:-0500
TZNAME:America/New_York EST
END:STANDARD
BEGIN:STANDARD
DTSTART:20231105T010000
RDATE:20240310T030000
TZOFFSETFROM:-0400
TZOFFSETTO:-0500
TZNAME:America/New_York EST
END:STANDARD
BEGIN:STANDARD
DTSTART:20241103T010000
RDATE:20250309T030000
TZOFFSETFROM:-0400
TZOFFSETTO:-0500
TZNAME:America/New_York EST
END:STANDARD
BEGIN:STANDARD
DTSTART:20251102T010000
RDATE:20260308T030000
TZOFFSETFROM:-0400
TZOFFSETTO:-0500
TZNAME:America/New_York EST
END:STANDARD
BEGIN:DAYLIGHT
DTSTART:20170518T100000
RDATE:20171105T010000
TZOFFSETFROM:-0500
TZOFFSETTO:-0400
TZNAME:America/New_York EDT
END:DAYLIGHT
BEGIN:DAYLIGHT
DTSTART:20180311T030000
RDATE:20181104T010000
TZOFFSETFROM:-0500
TZOFFSETTO:-0400
TZNAME:America/New_York EDT
END:DAYLIGHT
BEGIN:DAYLIGHT
DTSTART:20190310T030000
RDATE:20191103T010000
TZOFFSETFROM:-0500
TZOFFSETTO:-0400
TZNAME:America/New_York EDT
END:DAYLIGHT
BEGIN:DAYLIGHT
DTSTART:20200308T030000
RDATE:20201101T010000
TZOFFSETFROM:-0500
TZOFFSETTO:-0400
TZNAME:America/New_York EDT
END:DAYLIGHT
BEGIN:DAYLIGHT
DTSTART:20210314T030000
RDATE:20211107T010000
TZOFFSETFROM:-0500
TZOFFSETTO:-0400
TZNAME:America/New_York EDT
END:DAYLIGHT
BEGIN:DAYLIGHT
DTSTART:20220313T030000
RDATE:20221106T010000
TZOFFSETFROM:-0500
TZOFFSETTO:-0400
TZNAME:America/New_York EDT
END:DAYLIGHT
BEGIN:DAYLIGHT
DTSTART:20230312T030000
RDATE:20231105T010000
TZOFFSETFROM:-0500
TZOFFSETTO:-0400
TZNAME:America/New_York EDT
END:DAYLIGHT
BEGIN:DAYLIGHT
DTSTART:20240310T030000
RDATE:20241103T010000
TZOFFSETFROM:-0500
TZOFFSETTO:-0400
TZNAME:America/New_York EDT
END:DAYLIGHT
BEGIN:DAYLIGHT
DTSTART:20250309T030000
RDATE:20251102T010000
TZOFFSETFROM:-0500
TZOFFSETTO:-0400
TZNAME:America/New_York EDT
END:DAYLIGHT
END:VTIMEZONE
BEGIN:VEVENT
UID:22t6u13esr2buqj3sheh3vtm0f@google.com
CATEGORIES:Programs
CREATED:20180317T120309
SUMMARY:Cannon Family Exhibit
LOCATION:The Cannon House - home of the Delhi Historical Society\, 47 Main St\, Delh
 i\, NY 13753\, USA
DESCRIPTION;ENCODING=QUOTED-PRINTABLE:<span id="docs-internal-guid-366c7174-3487-7dfb-a197-1d77448bf0e0"><p dir="
 ltr" style="line-height:1.2;margin-top:0pt;margin-bottom:0pt;"><span style=
 "font-size: 12pt; font-family: Cambria; color: rgb(0, 0, 0); background-col
 or: transparent; font-weight: 700; font-variant-numeric: normal; font-varia
 nt-east-asian: normal; vertical-align: baseline; white-space: pre-wrap;">Sa
 turday, May 19, 10-1</span><span style="font-size: 12pt; font-family: Cambr
 ia; color: rgb(0, 0, 0); background-color: transparent; font-weight: 700; f
 ont-variant-numeric: normal; font-variant-east-asian: normal; vertical-alig
 n: baseline; white-space: pre-wrap;"><span class="Apple-tab-span" style="wh
 ite-space:pre;"></span>at the </span><span style="font-size: 12pt; font-fam
 ily: Cambria; color: rgb(0, 0, 0); background-color: transparent; font-weig
 ht: 700; font-variant-numeric: normal; font-variant-east-asian: normal; ver
 tical-align: baseline; white-space: pre-wrap;">Cannon House </span></p><p d
 ir="ltr" style="line-height:1.2;margin-top:0pt;margin-bottom:0pt;"><span st
 yle="font-size: 12pt; font-family: Cambria; color: rgb(0, 0, 0); background
 -color: transparent; font-variant-numeric: normal; font-variant-east-asian:
  normal; vertical-align: baseline; white-space: pre-wrap;"><span class="App
 le-tab-span" style="white-space:pre;"></span></span><span style="font-size:
  12pt; font-family: Cambria; color: rgb(0, 0, 0); background-color: transpa
 rent; font-variant-numeric: normal; font-variant-east-asian: normal; vertic
 al-align: baseline; white-space: pre-wrap;"><span class="Apple-tab-span" st
 yle="white-space:pre;"></span></span><span style="font-size: 12pt; font-fam
 ily: Cambria; color: rgb(0, 0, 0); background-color: transparent; font-vari
 ant-numeric: normal; font-variant-east-asian: normal; vertical-align: basel
 ine; white-space: pre-wrap;"><span class="Apple-tab-span" style="white-spac
 e:pre;"></span></span></p><p dir="ltr" style="line-height:1.2;margin-top:0p
 t;margin-bottom:0pt;"><span style="font-size: 12pt; font-family: Cambria; c
 olor: rgb(0, 0, 0); background-color: transparent; font-variant-numeric: no
 rmal; font-variant-east-asian: normal; vertical-align: baseline; white-spac
 e: pre-wrap;">The Delhi Historical Society is located in the summer home of
  George and Gertrude Cannon, son and daughter-in-law of Henry and Jenny Can
 non. There will be an exhibit of George’s contributions in the early develo
 pment of steam car racers, hydroplane speed racing with the famed Gray Goos
 e, his association with inventor Lee De Forest of radio fame, as well as ot
 her family items. Please join us in celebrating the 100</span><span style="
 font-size: 7.2pt; font-family: Cambria; color: rgb(0, 0, 0); background-col
 or: transparent; font-variant-numeric: normal; font-variant-east-asian: nor
 mal; vertical-align: super; white-space: pre-wrap;">th</span><span style="f
 ont-size: 12pt; font-family: Cambria; color: rgb(0, 0, 0); background-color
 : transparent; font-variant-numeric: normal; font-variant-east-asian: norma
 l; vertical-align: baseline; white-space: pre-wrap;"> Anniversary of the Ca
 nnon Free Library…1918-2018.</span></p><br><span style="font-size: 12pt; fo
 nt-family: Cambria; color: rgb(0, 0, 0); background-color: transparent; fon
 t-variant-numeric: normal; font-variant-east-asian: normal; vertical-align:
  baseline; white-space: pre-wrap;"><br></span></span>
DTSTAMP:20260423T044522Z
DTSTART;TZID=America/New_York:20180519T100000
DTEND;TZID=America/New_York:20180519T130000
SEQUENCE:0
TRANSP:OPAQUE
END:VEVENT
END:VCALENDAR