BEGIN:VCALENDAR
VERSION:2.0
PRODID:-//jEvents 2.0 for Joomla//EN
CALSCALE:GREGORIAN
METHOD:PUBLISH
BEGIN:VTIMEZONE
TZID:America/New_York
BEGIN:STANDARD
DTSTART:20171105T010000
RDATE:20180311T030000
TZOFFSETFROM:-0400
TZOFFSETTO:-0500
TZNAME:America/New_York EST
END:STANDARD
BEGIN:STANDARD
DTSTART:20181104T010000
RDATE:20190310T030000
TZOFFSETFROM:-0400
TZOFFSETTO:-0500
TZNAME:America/New_York EST
END:STANDARD
BEGIN:STANDARD
DTSTART:20191103T010000
RDATE:20200308T030000
TZOFFSETFROM:-0400
TZOFFSETTO:-0500
TZNAME:America/New_York EST
END:STANDARD
BEGIN:STANDARD
DTSTART:20201101T010000
RDATE:20210314T030000
TZOFFSETFROM:-0400
TZOFFSETTO:-0500
TZNAME:America/New_York EST
END:STANDARD
BEGIN:STANDARD
DTSTART:20211107T010000
RDATE:20220313T030000
TZOFFSETFROM:-0400
TZOFFSETTO:-0500
TZNAME:America/New_York EST
END:STANDARD
BEGIN:STANDARD
DTSTART:20221106T010000
RDATE:20230312T030000
TZOFFSETFROM:-0400
TZOFFSETTO:-0500
TZNAME:America/New_York EST
END:STANDARD
BEGIN:STANDARD
DTSTART:20231105T010000
RDATE:20240310T030000
TZOFFSETFROM:-0400
TZOFFSETTO:-0500
TZNAME:America/New_York EST
END:STANDARD
BEGIN:STANDARD
DTSTART:20241103T010000
RDATE:20250309T030000
TZOFFSETFROM:-0400
TZOFFSETTO:-0500
TZNAME:America/New_York EST
END:STANDARD
BEGIN:STANDARD
DTSTART:20251102T010000
RDATE:20260308T030000
TZOFFSETFROM:-0400
TZOFFSETTO:-0500
TZNAME:America/New_York EST
END:STANDARD
BEGIN:DAYLIGHT
DTSTART:20171008T183000
RDATE:20171105T010000
TZOFFSETFROM:-0500
TZOFFSETTO:-0400
TZNAME:America/New_York EDT
END:DAYLIGHT
BEGIN:DAYLIGHT
DTSTART:20180311T030000
RDATE:20181104T010000
TZOFFSETFROM:-0500
TZOFFSETTO:-0400
TZNAME:America/New_York EDT
END:DAYLIGHT
BEGIN:DAYLIGHT
DTSTART:20190310T030000
RDATE:20191103T010000
TZOFFSETFROM:-0500
TZOFFSETTO:-0400
TZNAME:America/New_York EDT
END:DAYLIGHT
BEGIN:DAYLIGHT
DTSTART:20200308T030000
RDATE:20201101T010000
TZOFFSETFROM:-0500
TZOFFSETTO:-0400
TZNAME:America/New_York EDT
END:DAYLIGHT
BEGIN:DAYLIGHT
DTSTART:20210314T030000
RDATE:20211107T010000
TZOFFSETFROM:-0500
TZOFFSETTO:-0400
TZNAME:America/New_York EDT
END:DAYLIGHT
BEGIN:DAYLIGHT
DTSTART:20220313T030000
RDATE:20221106T010000
TZOFFSETFROM:-0500
TZOFFSETTO:-0400
TZNAME:America/New_York EDT
END:DAYLIGHT
BEGIN:DAYLIGHT
DTSTART:20230312T030000
RDATE:20231105T010000
TZOFFSETFROM:-0500
TZOFFSETTO:-0400
TZNAME:America/New_York EDT
END:DAYLIGHT
BEGIN:DAYLIGHT
DTSTART:20240310T030000
RDATE:20241103T010000
TZOFFSETFROM:-0500
TZOFFSETTO:-0400
TZNAME:America/New_York EDT
END:DAYLIGHT
BEGIN:DAYLIGHT
DTSTART:20250309T030000
RDATE:20251102T010000
TZOFFSETFROM:-0500
TZOFFSETTO:-0400
TZNAME:America/New_York EDT
END:DAYLIGHT
END:VTIMEZONE
BEGIN:VEVENT
UID:4k34dphbtdqir3uern51b5udjc@google.com
CATEGORIES:Programs
CREATED:20180317T120309
SUMMARY:Franklin Mountain Hawkwatch Presentation by Delaware-Otsego Audubon Society
LOCATION:Cannon Free Library\, 40 Elm St\, Delhi\, NY 13753\, USA
DESCRIPTION;ENCODING=QUOTED-PRINTABLE:<span id="docs-internal-guid-366c7174-34ad-9abe-b478-61f242c8cd6e"><br><p d
 ir="ltr" style="line-height:1.2;margin-top:0pt;margin-bottom:0pt;"><span st
 yle="font-size: 12pt; font-family: Cambria; color: rgb(0, 0, 0); background
 -color: transparent; font-weight: 700; font-variant-numeric: normal; font-v
 ariant-east-asian: normal; vertical-align: baseline; white-space: pre-wrap;
 ">Tuesday, October 9, 6:30 at the </span><span style="font-size: 12pt; font
 -family: Cambria; color: rgb(0, 0, 0); background-color: transparent; font-
 weight: 700; font-variant-numeric: normal; font-variant-east-asian: normal;
  vertical-align: baseline; white-space: pre-wrap;">Cannon Free Library</spa
 n></p><br><p dir="ltr" style="line-height:1.2;margin-top:0pt;margin-bottom:
 0pt;"><span style="font-size: 12pt; font-family: Cambria; color: rgb(0, 0, 
 0); background-color: transparent; font-variant-numeric: normal; font-varia
 nt-east-asian: normal; vertical-align: baseline; white-space: pre-wrap;">An
 dy Mason, who resides in Jefferson and is the co-president of the Delaware-
 Otsego Audubon Society will present a program on the group’s Franklin Mount
 ain Hawkwatch, located on its wildlife sanctuary property overlooking the S
 usquehanna River. Now in its 30</span><span style="font-size: 7.2pt; font-f
 amily: Cambria; color: rgb(0, 0, 0); background-color: transparent; font-va
 riant-numeric: normal; font-variant-east-asian: normal; vertical-align: sup
 er; white-space: pre-wrap;">th</span><span style="font-size: 12pt; font-fam
 ily: Cambria; color: rgb(0, 0, 0); background-color: transparent; font-vari
 ant-numeric: normal; font-variant-east-asian: normal; vertical-align: basel
 ine; white-space: pre-wrap;"> consecutive year of operation, the Hawkwatch 
 typically tallies 5,000 hawks and eagles through the fall migration. More c
 onversation can take place outside… weather permitting.</span></p><br><span
  style="font-size: 12pt; font-family: Cambria; color: rgb(0, 0, 0); backgro
 und-color: transparent; font-variant-numeric: normal; font-variant-east-asi
 an: normal; vertical-align: baseline; white-space: pre-wrap;"><br></span></
 span>
DTSTAMP:20260423T045938Z
DTSTART;TZID=America/New_York:20181009T183000
DTEND;TZID=America/New_York:20181009T193000
SEQUENCE:0
TRANSP:OPAQUE
END:VEVENT
END:VCALENDAR