BEGIN:VCALENDAR
VERSION:2.0
PRODID:-//jEvents 2.0 for Joomla//EN
CALSCALE:GREGORIAN
METHOD:PUBLISH
BEGIN:VTIMEZONE
TZID:America/New_York
BEGIN:STANDARD
DTSTART:20171105T010000
RDATE:20180311T030000
TZOFFSETFROM:-0400
TZOFFSETTO:-0500
TZNAME:America/New_York EST
END:STANDARD
BEGIN:STANDARD
DTSTART:20181104T010000
RDATE:20190310T030000
TZOFFSETFROM:-0400
TZOFFSETTO:-0500
TZNAME:America/New_York EST
END:STANDARD
BEGIN:STANDARD
DTSTART:20191103T010000
RDATE:20200308T030000
TZOFFSETFROM:-0400
TZOFFSETTO:-0500
TZNAME:America/New_York EST
END:STANDARD
BEGIN:STANDARD
DTSTART:20201101T010000
RDATE:20210314T030000
TZOFFSETFROM:-0400
TZOFFSETTO:-0500
TZNAME:America/New_York EST
END:STANDARD
BEGIN:STANDARD
DTSTART:20211107T010000
RDATE:20220313T030000
TZOFFSETFROM:-0400
TZOFFSETTO:-0500
TZNAME:America/New_York EST
END:STANDARD
BEGIN:STANDARD
DTSTART:20221106T010000
RDATE:20230312T030000
TZOFFSETFROM:-0400
TZOFFSETTO:-0500
TZNAME:America/New_York EST
END:STANDARD
BEGIN:STANDARD
DTSTART:20231105T010000
RDATE:20240310T030000
TZOFFSETFROM:-0400
TZOFFSETTO:-0500
TZNAME:America/New_York EST
END:STANDARD
BEGIN:STANDARD
DTSTART:20241103T010000
RDATE:20250309T030000
TZOFFSETFROM:-0400
TZOFFSETTO:-0500
TZNAME:America/New_York EST
END:STANDARD
BEGIN:STANDARD
DTSTART:20251102T010000
RDATE:20260308T030000
TZOFFSETFROM:-0400
TZOFFSETTO:-0500
TZNAME:America/New_York EST
END:STANDARD
BEGIN:DAYLIGHT
DTSTART:20171012T100000
RDATE:20171105T010000
TZOFFSETFROM:-0500
TZOFFSETTO:-0400
TZNAME:America/New_York EDT
END:DAYLIGHT
BEGIN:DAYLIGHT
DTSTART:20180311T030000
RDATE:20181104T010000
TZOFFSETFROM:-0500
TZOFFSETTO:-0400
TZNAME:America/New_York EDT
END:DAYLIGHT
BEGIN:DAYLIGHT
DTSTART:20190310T030000
RDATE:20191103T010000
TZOFFSETFROM:-0500
TZOFFSETTO:-0400
TZNAME:America/New_York EDT
END:DAYLIGHT
BEGIN:DAYLIGHT
DTSTART:20200308T030000
RDATE:20201101T010000
TZOFFSETFROM:-0500
TZOFFSETTO:-0400
TZNAME:America/New_York EDT
END:DAYLIGHT
BEGIN:DAYLIGHT
DTSTART:20210314T030000
RDATE:20211107T010000
TZOFFSETFROM:-0500
TZOFFSETTO:-0400
TZNAME:America/New_York EDT
END:DAYLIGHT
BEGIN:DAYLIGHT
DTSTART:20220313T030000
RDATE:20221106T010000
TZOFFSETFROM:-0500
TZOFFSETTO:-0400
TZNAME:America/New_York EDT
END:DAYLIGHT
BEGIN:DAYLIGHT
DTSTART:20230312T030000
RDATE:20231105T010000
TZOFFSETFROM:-0500
TZOFFSETTO:-0400
TZNAME:America/New_York EDT
END:DAYLIGHT
BEGIN:DAYLIGHT
DTSTART:20240310T030000
RDATE:20241103T010000
TZOFFSETFROM:-0500
TZOFFSETTO:-0400
TZNAME:America/New_York EDT
END:DAYLIGHT
BEGIN:DAYLIGHT
DTSTART:20250309T030000
RDATE:20251102T010000
TZOFFSETFROM:-0500
TZOFFSETTO:-0400
TZNAME:America/New_York EDT
END:DAYLIGHT
END:VTIMEZONE
BEGIN:VEVENT
UID:1k7sg119gl1rpftuh2281qkhtd@google.com
CATEGORIES:Programs
CREATED:20180317T120308
SUMMARY:Birdhouse Exhibit
LOCATION:The Cannon House - home of the Delhi Historical Society\, 47 Main St\, Delh
 i\, NY 13753\, USA
DESCRIPTION;ENCODING=QUOTED-PRINTABLE:<span id="docs-internal-guid-366c7174-34af-8e20-aa6d-d80f016c4a58"><p dir="
 ltr" style="line-height:1.2;margin-top:0pt;margin-bottom:0pt;"><span style=
 "font-size: 12pt; font-family: Cambria; color: rgb(0, 0, 0); background-col
 or: transparent; font-weight: 700; font-variant-numeric: normal; font-varia
 nt-east-asian: normal; vertical-align: baseline; white-space: pre-wrap;">Sa
 turday, October 13, 10-1</span><span style="font-size: 12pt; font-family: C
 ambria; color: rgb(0, 0, 0); background-color: transparent; font-weight: 70
 0; font-variant-numeric: normal; font-variant-east-asian: normal; vertical-
 align: baseline; white-space: pre-wrap;"><span class="Apple-tab-span" style
 ="white-space:pre;"></span>at the </span><span style="font-size: 12pt; font
 -family: Cambria; color: rgb(0, 0, 0); background-color: transparent; font-
 weight: 700; font-variant-numeric: normal; font-variant-east-asian: normal;
  vertical-align: baseline; white-space: pre-wrap;">Cannon House</span></p><
 br><p dir="ltr" style="line-height:1.2;margin-top:0pt;margin-bottom:0pt;"><
 span style="font-size: 12pt; font-family: Cambria; color: rgb(0, 0, 0); bac
 kground-color: transparent; font-variant-numeric: normal; font-variant-east
 -asian: normal; vertical-align: baseline; white-space: pre-wrap;">The Delhi
  Historical Society will display a variety of birdhouses, a collection of s
 ongbirds that is at least 100 years old belonging to Richard McIntosh of Bo
 vina, and other items of interest. Bill Cash will be sharing his birdhouses
  with us and three lucky people will win a free birdhouse generously donate
 d by Bill Cash. Bill Borow of Borow’s Taxidermy Studio in Delhi will be loa
 ning us a collection of birds… pheasant, grouse, doves and ducks for our vi
 ewing.</span></p><br><span style="font-size: 12pt; font-family: Cambria; co
 lor: rgb(0, 0, 0); background-color: transparent; font-variant-numeric: nor
 mal; font-variant-east-asian: normal; vertical-align: baseline; white-space
 : pre-wrap;"><br></span></span>
DTSTAMP:20260421T051528Z
DTSTART;TZID=America/New_York:20181013T100000
DTEND;TZID=America/New_York:20181013T130000
SEQUENCE:0
TRANSP:OPAQUE
END:VEVENT
END:VCALENDAR